0.2500000000
0.0000000000
0.0000000000
-0.2500000000
466966.1250000000
399007.3750000000
