0.2500000000
0.0000000000
0.0000000000
-0.2500000000
463525.3750000000
396859.8750000000
