0.2500000000
0.0000000000
0.0000000000
-0.2500000000
463613.1250000000
399136.1250000000
