0.2500000000
0.0000000000
0.0000000000
-0.2500000000
470406.1250000000
401155.3750000000
