0.2500000000
0.0000000000
0.0000000000
-0.2500000000
470493.1250000000
403431.6250000000
