0.2500000000
0.0000000000
0.0000000000
-0.2500000000
467053.3750000000
401283.6250000000
