0.2500000000
0.0000000000
0.0000000000
-0.2500000000
467140.8750000000
403560.1250000000
