0.2500000000
0.0000000000
0.0000000000
-0.2500000000
463700.8750000000
401412.6250000000
