0.2500000000
0.0000000000
0.0000000000
-0.2500000000
463788.3750000000
403689.1250000000
