0.2500000000
0.0000000000
0.0000000000
-0.2500000000
470580.1250000000
405708.1250000000
