0.2500000000
0.0000000000
0.0000000000
-0.2500000000
470667.1250000000
407984.6250000000
