0.2500000000
0.0000000000
0.0000000000
-0.2500000000
467228.1250000000
405836.6250000000
