0.2500000000
0.0000000000
0.0000000000
-0.2500000000
467315.6250000000
408112.8750000000
