0.2500000000
0.0000000000
0.0000000000
-0.2500000000
463876.1250000000
405965.3750000000
