0.2500000000
0.0000000000
0.0000000000
-0.2500000000
463963.8750000000
408241.8750000000
