0.2500000000
0.0000000000
0.0000000000
-0.2500000000
470754.1250000000
410260.8750000000
