0.2500000000
0.0000000000
0.0000000000
-0.2500000000
470841.3750000000
412537.3750000000
