0.2500000000
0.0000000000
0.0000000000
-0.2500000000
467402.8750000000
410389.3750000000
