0.2500000000
0.0000000000
0.0000000000
-0.2500000000
467490.3750000000
412665.6250000000
