0.2500000000
0.0000000000
0.0000000000
-0.2500000000
464051.6250000000
410518.1250000000
