0.2500000000
0.0000000000
0.0000000000
-0.2500000000
464139.3750000000
412794.6250000000
