0.2500000000
0.0000000000
0.0000000000
-0.2500000000
470928.3750000000
414813.8750000000
