0.2500000000
0.0000000000
0.0000000000
-0.2500000000
471015.3750000000
417090.1250000000
