0.2500000000
0.0000000000
0.0000000000
-0.2500000000
467577.6250000000
414942.1250000000
