0.2500000000
0.0000000000
0.0000000000
-0.2500000000
467665.1250000000
417218.3750000000
