0.2500000000
0.0000000000
0.0000000000
-0.2500000000
464227.1250000000
415070.8750000000
