0.2500000000
0.0000000000
0.0000000000
-0.2500000000
464314.8750000000
417347.3750000000
