0.2500000000
0.0000000000
0.0000000000
-0.2500000000
460964.6250000000
417476.6250000000
