0.2500000000
0.0000000000
0.0000000000
-0.2500000000
471102.3750000000
419366.6250000000
