0.2500000000
0.0000000000
0.0000000000
-0.2500000000
471189.3750000000
421642.8750000000
