0.2500000000
0.0000000000
0.0000000000
-0.2500000000
467752.3750000000
419494.8750000000
