0.2500000000
0.0000000000
0.0000000000
-0.2500000000
467839.8750000000
421771.1250000000
