0.2500000000
0.0000000000
0.0000000000
-0.2500000000
464402.6250000000
419623.6250000000
