0.2500000000
0.0000000000
0.0000000000
-0.2500000000
464490.3750000000
421900.1250000000
