0.2500000000
0.0000000000
0.0000000000
-0.2500000000
461052.6250000000
419753.1250000000
