0.2500000000
0.0000000000
0.0000000000
-0.2500000000
461140.8750000000
422029.3750000000
