0.2500000000
0.0000000000
0.0000000000
-0.2500000000
471276.3750000000
423919.3750000000
