0.2500000000
0.0000000000
0.0000000000
-0.2500000000
471363.3750000000
426195.6250000000
