0.2500000000
0.0000000000
0.0000000000
-0.2500000000
467927.1250000000
424047.6250000000
