0.2500000000
0.0000000000
0.0000000000
-0.2500000000
468014.6250000000
426323.8750000000
