0.2500000000
0.0000000000
0.0000000000
-0.2500000000
464578.1250000000
424176.3750000000
