0.2500000000
0.0000000000
0.0000000000
-0.2500000000
464665.6250000000
426452.8750000000
