0.2500000000
0.0000000000
0.0000000000
-0.2500000000
461228.8750000000
424305.6250000000
