0.2500000000
0.0000000000
0.0000000000
-0.2500000000
461316.8750000000
426582.1250000000
