0.2500000000
0.0000000000
0.0000000000
-0.2500000000
503265.3750000000
381686.6250000000
