0.2500000000
0.0000000000
0.0000000000
-0.2500000000
503348.8750000000
383963.1250000000
