0.2500000000
0.0000000000
0.0000000000
-0.2500000000
499909.6250000000
381810.1250000000
