0.2500000000
0.0000000000
0.0000000000
-0.2500000000
499993.6250000000
384086.6250000000
