0.2500000000
0.0000000000
0.0000000000
-0.2500000000
496554.1250000000
381933.8750000000
