0.2500000000
0.0000000000
0.0000000000
-0.2500000000
496638.3750000000
384210.3750000000
